BEGIN:VCALENDAR
VERSION:2.0
PRODID:-//Boca Grande Area Chamber of Commerce - ECPv6.6.0.2//NONSGML v1.0//EN
CALSCALE:GREGORIAN
METHOD:PUBLISH
X-ORIGINAL-URL:https://bocagrandechamber.com
X-WR-CALDESC:Events for Boca Grande Area Chamber of Commerce
REFRESH-INTERVAL;VALUE=DURATION:PT1H
X-Robots-Tag:noindex
X-PUBLISHED-TTL:PT1H
BEGIN:VTIMEZONE
TZID:America/New_York
BEGIN:DAYLIGHT
TZOFFSETFROM:-0500
TZOFFSETTO:-0400
TZNAME:EDT
DTSTART:20200308T070000
END:DAYLIGHT
BEGIN:STANDARD
TZOFFSETFROM:-0400
TZOFFSETTO:-0500
TZNAME:EST
DTSTART:20201101T060000
END:STANDARD
END:VTIMEZONE
BEGIN:VEVENT
DTSTART;TZID=America/New_York:20200930T130000
DTEND;TZID=America/New_York:20200930T150000
DTSTAMP:20260424T173107
CREATED:20200820T153803Z
LAST-MODIFIED:20200820T153803Z
UID:10000178-1601470800-1601478000@bocagrandechamber.com
SUMMARY:At Home With Mote - September Virtual Homeschool Program for Families
DESCRIPTION:Estuaries 101: Exploring Sarasota Bay \nAlso known as nurseries of the sea\, estuaries are vital ecosystems rich with life.  Join us as we explore the beauty and uniqueness of our local estuary\, Sarasota Bay. Must register 24 hours+ before event.
URL:https://bocagrandechamber.com/event/at-home-with-mote-september-virtual-homeschool-program-for-families/
LOCATION:Mote Marine Lab & Aquarium\, 1600 Ken Thompson Parkway\, Sarasota\, FL\, 34236\, United States
GEO:27.3329;-82.5773274
X-APPLE-STRUCTURED-LOCATION;VALUE=URI;X-ADDRESS=Mote Marine Lab & Aquarium 1600 Ken Thompson Parkway Sarasota FL 34236 United States;X-APPLE-RADIUS=500;X-TITLE=1600 Ken Thompson Parkway:geo:-82.5773274,27.3329
END:VEVENT
BEGIN:VEVENT
DTSTART;TZID=America/New_York:20200911T100000
DTEND;TZID=America/New_York:20200911T120000
DTSTAMP:20260424T173107
CREATED:20200820T153549Z
LAST-MODIFIED:20200820T153549Z
UID:10000177-1599818400-1599825600@bocagrandechamber.com
SUMMARY:September Homeschool Day - For Ages 10-14
DESCRIPTION:Estuaries 101: Exploring Sarasota Bay  \nAlso known as nurseries of the sea\, estuaries are vital ecosystems rich with life.  Join us as we explore the beauty and uniqueness of our local estuary\, Sarasota Bay. Must register reserve your spot.
URL:https://bocagrandechamber.com/event/september-homeschool-day-for-ages-10-14/
LOCATION:Mote Marine Lab & Aquarium\, 1600 Ken Thompson Parkway\, Sarasota\, FL\, 34236\, United States
GEO:27.3329;-82.5773274
X-APPLE-STRUCTURED-LOCATION;VALUE=URI;X-ADDRESS=Mote Marine Lab & Aquarium 1600 Ken Thompson Parkway Sarasota FL 34236 United States;X-APPLE-RADIUS=500;X-TITLE=1600 Ken Thompson Parkway:geo:-82.5773274,27.3329
END:VEVENT
BEGIN:VEVENT
DTSTART;TZID=America/New_York:20200909T100000
DTEND;TZID=America/New_York:20200909T120000
DTSTAMP:20260424T173107
CREATED:20200820T153057Z
LAST-MODIFIED:20200820T153057Z
UID:10000176-1599645600-1599652800@bocagrandechamber.com
SUMMARY:September Homeschool Day - For Ages 6-9
DESCRIPTION:Estuaries 101: Exploring Sarasota Bay  \nAlso known as nurseries of the sea\, estuaries are vital ecosystems rich with life.  Join us as we explore the beauty and uniqueness of our local estuary\, Sarasota Bay. Must register to reserve your spot.
URL:https://bocagrandechamber.com/event/september-homeschool-day-for-ages-6-9/
LOCATION:Mote Marine Lab & Aquarium\, 1600 Ken Thompson Parkway\, Sarasota\, FL\, 34236\, United States
GEO:27.3329;-82.5773274
X-APPLE-STRUCTURED-LOCATION;VALUE=URI;X-ADDRESS=Mote Marine Lab & Aquarium 1600 Ken Thompson Parkway Sarasota FL 34236 United States;X-APPLE-RADIUS=500;X-TITLE=1600 Ken Thompson Parkway:geo:-82.5773274,27.3329
END:VEVENT
BEGIN:VEVENT
DTSTART;TZID=America/New_York:20200825T143000
DTEND;TZID=America/New_York:20200825T153000
DTSTAMP:20260424T173107
CREATED:20200820T152325Z
LAST-MODIFIED:20200820T152325Z
UID:10000174-1598365800-1598369400@bocagrandechamber.com
SUMMARY:Volunteer Maintenance Diver Recruitment Event
DESCRIPTION:Want to learn more about our Volunteer Maintenance Diver opportunities? Attend one of our upcoming Recruitment Events! RSVP not required but appreciated.
URL:https://bocagrandechamber.com/event/volunteer-maintenance-diver-recruitment-event-2/
LOCATION:Mote Marine Lab & Aquarium\, 1600 Ken Thompson Parkway\, Sarasota\, FL\, 34236\, United States
GEO:27.3329;-82.5773274
X-APPLE-STRUCTURED-LOCATION;VALUE=URI;X-ADDRESS=Mote Marine Lab & Aquarium 1600 Ken Thompson Parkway Sarasota FL 34236 United States;X-APPLE-RADIUS=500;X-TITLE=1600 Ken Thompson Parkway:geo:-82.5773274,27.3329
END:VEVENT
BEGIN:VEVENT
DTSTART;TZID=America/New_York:20200825T143000
DTEND;TZID=America/New_York:20200825T153000
DTSTAMP:20260424T173107
CREATED:20200820T152021Z
LAST-MODIFIED:20200820T152052Z
UID:10000173-1598365800-1598369400@bocagrandechamber.com
SUMMARY:Volunteer Maintenance Diver Recruitment Event
DESCRIPTION:Want to learn more about our Volunteer Maintenance Diver opportunities? Attend one of our upcoming Recruitment Events!  RSVP NOT REQUIRED BUT APPRECIATED.
URL:https://bocagrandechamber.com/event/volunteer-maintenance-diver-recruitment-event/
LOCATION:Mote Marine Lab & Aquarium\, 1600 Ken Thompson Parkway\, Sarasota\, FL\, 34236\, United States
GEO:27.3329;-82.5773274
X-APPLE-STRUCTURED-LOCATION;VALUE=URI;X-ADDRESS=Mote Marine Lab & Aquarium 1600 Ken Thompson Parkway Sarasota FL 34236 United States;X-APPLE-RADIUS=500;X-TITLE=1600 Ken Thompson Parkway:geo:-82.5773274,27.3329
END:VEVENT
END:VCALENDAR