BEGIN:VCALENDAR
VERSION:2.0
PRODID:-//Boca Grande Area Chamber of Commerce - ECPv6.6.0.2//NONSGML v1.0//EN
CALSCALE:GREGORIAN
METHOD:PUBLISH
X-ORIGINAL-URL:https://bocagrandechamber.com
X-WR-CALDESC:Events for Boca Grande Area Chamber of Commerce
REFRESH-INTERVAL;VALUE=DURATION:PT1H
X-Robots-Tag:noindex
X-PUBLISHED-TTL:PT1H
BEGIN:VTIMEZONE
TZID:UTC
BEGIN:STANDARD
TZOFFSETFROM:+0000
TZOFFSETTO:+0000
TZNAME:UTC
DTSTART:20180101T000000
END:STANDARD
END:VTIMEZONE
BEGIN:VEVENT
DTSTART;TZID=UTC:20180406T093000
DTEND;TZID=UTC:20180406T110000
DTSTAMP:20260421T043540
CREATED:20180307T212707Z
LAST-MODIFIED:20180307T212707Z
UID:10000003-1523007000-1523012400@bocagrandechamber.com
SUMMARY:BIPS Wading Adventures!
DESCRIPTION:Join BIPS for our most popular educational program Wading Adventures in partnership with Florida State Parks! Learn about local habitats and environments\, shells\, sea grasses and marine creatures! Explore the Charlotte Harbor National Estuary with an expert Florida State Park Ranger to collect local marine life and view each through a waterproof magnifying glass! Cost is $5 for the program and $3 for each vehicle. Spaces limited RSVP at: www.barrierislandparkssociety.org or call 941-964-0060. 
URL:https://bocagrandechamber.com/event/bips-wading-adventures-8/
LOCATION:Don Pedro State Park\, 8450 Placida Rd.\, Cape Haze\, FL\, 33946\, United States
ORGANIZER;CN="Barrier Island Parks Soceity":MAILTO:info@barrierislandparkssociety.org
GEO:26.8556442;-82.3024516
X-APPLE-STRUCTURED-LOCATION;VALUE=URI;X-ADDRESS=Don Pedro State Park 8450 Placida Rd. Cape Haze FL 33946 United States;X-APPLE-RADIUS=500;X-TITLE=8450 Placida Rd.:geo:-82.3024516,26.8556442
END:VEVENT
BEGIN:VEVENT
DTSTART;TZID=UTC:20180309T093000
DTEND;TZID=UTC:20180309T110000
DTSTAMP:20260421T043540
CREATED:20180307T204957Z
LAST-MODIFIED:20180307T204957Z
UID:10000129-1520587800-1520593200@bocagrandechamber.com
SUMMARY:BIPS Wading Adventures!
DESCRIPTION:Join BIPS for our most popular educational program Wading Adventures in partnership with Florida State Parks! Learn about local habitats and environments\, shells\, sea grasses and marine creatures at four state parks! Explore the Charlotte Harbor National Estuary with an expert Florida State Park Ranger to collect local marine life and view each through a waterproof magnifying glass! Cost is $5 for the program and $3 for each vehicle. Spaces limited RSVP at: www.barrierislandparkssociety.org or call 941-964-0060. Next adventures: March 20\, 22\, 27\, 29 & April 3\, 5\, 6.
URL:https://bocagrandechamber.com/event/bips-wading-adventures/
LOCATION:Don Pedro State Park\, 8450 Placida Rd.\, Cape Haze\, FL\, 33946\, United States
ORGANIZER;CN="Barrier Island Parks Soceity":MAILTO:info@barrierislandparkssociety.org
GEO:26.8556442;-82.3024516
X-APPLE-STRUCTURED-LOCATION;VALUE=URI;X-ADDRESS=Don Pedro State Park 8450 Placida Rd. Cape Haze FL 33946 United States;X-APPLE-RADIUS=500;X-TITLE=8450 Placida Rd.:geo:-82.3024516,26.8556442
END:VEVENT
END:VCALENDAR