BEGIN:VCALENDAR
VERSION:2.0
PRODID:-//Boca Grande Area Chamber of Commerce - ECPv6.6.0.2//NONSGML v1.0//EN
CALSCALE:GREGORIAN
METHOD:PUBLISH
X-ORIGINAL-URL:https://bocagrandechamber.com
X-WR-CALDESC:Events for Boca Grande Area Chamber of Commerce
REFRESH-INTERVAL;VALUE=DURATION:PT1H
X-Robots-Tag:noindex
X-PUBLISHED-TTL:PT1H
BEGIN:VTIMEZONE
TZID:America/New_York
BEGIN:DAYLIGHT
TZOFFSETFROM:-0500
TZOFFSETTO:-0400
TZNAME:EDT
DTSTART:20250309T070000
END:DAYLIGHT
BEGIN:STANDARD
TZOFFSETFROM:-0400
TZOFFSETTO:-0500
TZNAME:EST
DTSTART:20251102T060000
END:STANDARD
END:VTIMEZONE
BEGIN:VEVENT
DTSTART;TZID=America/New_York:20250607T150000
DTEND;TZID=America/New_York:20250607T180000
DTSTAMP:20260422T201400
CREATED:20250415T161835Z
LAST-MODIFIED:20250415T161835Z
UID:10000228-1749308400-1749319200@bocagrandechamber.com
SUMMARY:Gasparilla Island Kids Classic
DESCRIPTION:
URL:https://bocagrandechamber.com/event/gasparilla-island-kids-classic-2/
LOCATION:Untitled\, Boca Grande\, FL\, 33921\, United States
GEO:27.6648274;-81.5157535
END:VEVENT
END:VCALENDAR