BEGIN:VCALENDAR
VERSION:2.0
PRODID:-//Boca Grande Area Chamber of Commerce - ECPv6.6.0.2//NONSGML v1.0//EN
CALSCALE:GREGORIAN
METHOD:PUBLISH
X-ORIGINAL-URL:https://bocagrandechamber.com
X-WR-CALDESC:Events for Boca Grande Area Chamber of Commerce
REFRESH-INTERVAL;VALUE=DURATION:PT1H
X-Robots-Tag:noindex
X-PUBLISHED-TTL:PT1H
BEGIN:VTIMEZONE
TZID:America/New_York
BEGIN:DAYLIGHT
TZOFFSETFROM:-0500
TZOFFSETTO:-0400
TZNAME:EDT
DTSTART:20240310T070000
END:DAYLIGHT
BEGIN:STANDARD
TZOFFSETFROM:-0400
TZOFFSETTO:-0500
TZNAME:EST
DTSTART:20241103T060000
END:STANDARD
END:VTIMEZONE
BEGIN:VEVENT
DTSTART;TZID=America/New_York:20240511T163000
DTEND;TZID=America/New_York:20240511T193000
DTSTAMP:20260422T070444
CREATED:20240308T031141Z
LAST-MODIFIED:20240308T031141Z
UID:10000208-1715445000-1715455800@bocagrandechamber.com
SUMMARY:Ladies Day Tarpon Tournament
DESCRIPTION:
URL:https://bocagrandechamber.com/event/ladies-day-tarpon-tournament-4/
LOCATION:Untitled\, Boca Grande\, FL\, 33921\, United States
GEO:27.6648274;-81.5157535
END:VEVENT
BEGIN:VEVENT
DTSTART;VALUE=DATE:20240522
DTEND;VALUE=DATE:20240524
DTSTAMP:20260422T070444
CREATED:20240308T031352Z
LAST-MODIFIED:20240308T031444Z
UID:10000209-1716336000-1716508799@bocagrandechamber.com
SUMMARY:World's Richest Tarpon Tournament
DESCRIPTION:
URL:https://bocagrandechamber.com/event/worlds-richest-tarpon-tournament-5/
LOCATION:Untitled\, Boca Grande\, FL\, 33921\, United States
GEO:27.6648274;-81.5157535
END:VEVENT
END:VCALENDAR