BEGIN:VCALENDAR
VERSION:2.0
PRODID:-//Boca Grande Area Chamber of Commerce - ECPv6.6.0.2//NONSGML v1.0//EN
CALSCALE:GREGORIAN
METHOD:PUBLISH
X-ORIGINAL-URL:https://bocagrandechamber.com
X-WR-CALDESC:Events for Boca Grande Area Chamber of Commerce
REFRESH-INTERVAL;VALUE=DURATION:PT1H
X-Robots-Tag:noindex
X-PUBLISHED-TTL:PT1H
BEGIN:VTIMEZONE
TZID:America/New_York
BEGIN:DAYLIGHT
TZOFFSETFROM:-0500
TZOFFSETTO:-0400
TZNAME:EDT
DTSTART:20230312T070000
END:DAYLIGHT
BEGIN:STANDARD
TZOFFSETFROM:-0400
TZOFFSETTO:-0500
TZNAME:EST
DTSTART:20231105T060000
END:STANDARD
END:VTIMEZONE
BEGIN:VEVENT
DTSTART;TZID=America/New_York:20230329T170000
DTEND;TZID=America/New_York:20230329T190000
DTSTAMP:20260421T102923
CREATED:20230221T135017Z
LAST-MODIFIED:20230228T150749Z
UID:10000195-1680109200-1680116400@bocagrandechamber.com
SUMMARY:Joint Chamber Mixer
DESCRIPTION:  \nJoin Southern Design Living as they host a joint mixer with Englewood and Boca Grande Chamber. They will have music; the crepes man will serve up made-to-order crepes again\, a 50/50 raffle\, participants can bring a door prize to promote their business\, etc.
URL:https://bocagrandechamber.com/event/joint-chamber-mixer/
LOCATION:Southern Living and Design\, 2980 Placida Rd\, Englewood\, FL\, 34224\, United States
CATEGORIES:Monthly Mixer
GEO:26.9102723;-82.3259646
X-APPLE-STRUCTURED-LOCATION;VALUE=URI;X-ADDRESS=Southern Living and Design 2980 Placida Rd Englewood FL 34224 United States;X-APPLE-RADIUS=500;X-TITLE=2980 Placida Rd:geo:-82.3259646,26.9102723
END:VEVENT
END:VCALENDAR