BEGIN:VCALENDAR
VERSION:2.0
PRODID:-//Boca Grande Area Chamber of Commerce - ECPv6.6.0.2//NONSGML v1.0//EN
CALSCALE:GREGORIAN
METHOD:PUBLISH
X-ORIGINAL-URL:https://bocagrandechamber.com
X-WR-CALDESC:Events for Boca Grande Area Chamber of Commerce
REFRESH-INTERVAL;VALUE=DURATION:PT1H
X-Robots-Tag:noindex
X-PUBLISHED-TTL:PT1H
BEGIN:VTIMEZONE
TZID:America/New_York
BEGIN:DAYLIGHT
TZOFFSETFROM:-0500
TZOFFSETTO:-0400
TZNAME:EDT
DTSTART:20220313T070000
END:DAYLIGHT
BEGIN:STANDARD
TZOFFSETFROM:-0400
TZOFFSETTO:-0500
TZNAME:EST
DTSTART:20221106T060000
END:STANDARD
END:VTIMEZONE
BEGIN:VEVENT
DTSTART;TZID=America/New_York:20220704T090000
DTEND;TZID=America/New_York:20220704T230000
DTSTAMP:20260421T072859
CREATED:20220621T185224Z
LAST-MODIFIED:20220621T185224Z
UID:10000194-1656925200-1656975600@bocagrandechamber.com
SUMMARY:Golf Cart Parade 9am
DESCRIPTION:The Fourth of July golf cart parade will be held this year on July 4th. Parade line-up in the same place as usual – beginning in the little parking lot between Scarpa’s Coastal and Englewood Bank. It will wrap down Park Avenue from there.\nParade begins at 9 a.m. sharp.
URL:https://bocagrandechamber.com/event/golf-cart-parade-9am/
LOCATION:Untitled\, Boca Grande\, FL\, 33921\, United States
GEO:27.6648274;-81.5157535
END:VEVENT
END:VCALENDAR