BEGIN:VCALENDAR
VERSION:2.0
PRODID:-//Boca Grande Area Chamber of Commerce - ECPv6.6.0.2//NONSGML v1.0//EN
CALSCALE:GREGORIAN
METHOD:PUBLISH
X-WR-CALNAME:Boca Grande Area Chamber of Commerce
X-ORIGINAL-URL:https://bocagrandechamber.com
X-WR-CALDESC:Events for Boca Grande Area Chamber of Commerce
REFRESH-INTERVAL;VALUE=DURATION:PT1H
X-Robots-Tag:noindex
X-PUBLISHED-TTL:PT1H
BEGIN:VTIMEZONE
TZID:America/New_York
BEGIN:DAYLIGHT
TZOFFSETFROM:-0500
TZOFFSETTO:-0400
TZNAME:EDT
DTSTART:20220313T070000
END:DAYLIGHT
BEGIN:STANDARD
TZOFFSETFROM:-0400
TZOFFSETTO:-0500
TZNAME:EST
DTSTART:20221106T060000
END:STANDARD
END:VTIMEZONE
BEGIN:VEVENT
DTSTART;TZID=America/New_York:20220625T160000
DTEND;TZID=America/New_York:20220625T200000
DTSTAMP:20260421T055055
CREATED:20220621T184714Z
LAST-MODIFIED:20220621T184816Z
UID:10000082-1656172800-1656187200@bocagrandechamber.com
SUMMARY:Tarpon Gone Rad 4-8pm
DESCRIPTION:Come Join the Boca Grande Community wrap up tarpon season. With Live Music\, Cold Drinks\, and Jamaican jerk Chicken. Bounce Houses for the kids and games for all. We also have a 50/50 raffle.
URL:https://bocagrandechamber.com/event/tarpon-gone-rad/
LOCATION:Boca Grande Community Center Grounds\, 131 1st St. W\, Boca Grande\, FL\, 33921\, United States
GEO:26.747014;-82.261258
X-APPLE-STRUCTURED-LOCATION;VALUE=URI;X-ADDRESS=Boca Grande Community Center Grounds 131 1st St. W Boca Grande FL 33921 United States;X-APPLE-RADIUS=500;X-TITLE=131 1st St. W:geo:-82.261258,26.747014
END:VEVENT
END:VCALENDAR