BEGIN:VCALENDAR
VERSION:2.0
PRODID:-//Boca Grande Area Chamber of Commerce - ECPv6.6.0.2//NONSGML v1.0//EN
CALSCALE:GREGORIAN
METHOD:PUBLISH
X-ORIGINAL-URL:https://bocagrandechamber.com
X-WR-CALDESC:Events for Boca Grande Area Chamber of Commerce
REFRESH-INTERVAL;VALUE=DURATION:PT1H
X-Robots-Tag:noindex
X-PUBLISHED-TTL:PT1H
BEGIN:VTIMEZONE
TZID:America/New_York
BEGIN:DAYLIGHT
TZOFFSETFROM:-0500
TZOFFSETTO:-0400
TZNAME:EDT
DTSTART:20260308T070000
END:DAYLIGHT
BEGIN:STANDARD
TZOFFSETFROM:-0400
TZOFFSETTO:-0500
TZNAME:EST
DTSTART:20261101T060000
END:STANDARD
END:VTIMEZONE
BEGIN:VEVENT
DTSTART;TZID=America/New_York:20260509T153000
DTEND;TZID=America/New_York:20260509T193000
DTSTAMP:20260425T124053
CREATED:20260404T184706Z
LAST-MODIFIED:20260404T184706Z
UID:10000257-1778340600-1778355000@bocagrandechamber.com
SUMMARY:Ladies Day Tarpon Tournament
DESCRIPTION:More Info
URL:https://bocagrandechamber.com/event/ladies-day-tarpon-tournament-7/
END:VEVENT
END:VCALENDAR