BEGIN:VCALENDAR
VERSION:2.0
PRODID:-//Boca Grande Area Chamber of Commerce - ECPv6.6.0.2//NONSGML v1.0//EN
CALSCALE:GREGORIAN
METHOD:PUBLISH
X-ORIGINAL-URL:https://bocagrandechamber.com
X-WR-CALDESC:Events for Boca Grande Area Chamber of Commerce
REFRESH-INTERVAL;VALUE=DURATION:PT1H
X-Robots-Tag:noindex
X-PUBLISHED-TTL:PT1H
BEGIN:VTIMEZONE
TZID:America/New_York
BEGIN:DAYLIGHT
TZOFFSETFROM:-0500
TZOFFSETTO:-0400
TZNAME:EDT
DTSTART:20250309T070000
END:DAYLIGHT
BEGIN:STANDARD
TZOFFSETFROM:-0400
TZOFFSETTO:-0500
TZNAME:EST
DTSTART:20251102T060000
END:STANDARD
END:VTIMEZONE
BEGIN:VEVENT
DTSTART;TZID=America/New_York:20251206T170000
DTEND;TZID=America/New_York:20251206T200000
DTSTAMP:20260423T031813
CREATED:20251009T134548Z
LAST-MODIFIED:20251113T173906Z
UID:10000229-1765040400-1765051200@bocagrandechamber.com
SUMMARY:Christmas Walk
DESCRIPTION:Join us downtown for our Christmas Walk and don’t forget Santa rolling in on the firetruck at 6 pm. This is great fun for the whole family. Businesses stay open till 8 pm\, so come out to visit your favorite shops. Get a head start on your Christmas shopping. More details to come
URL:https://bocagrandechamber.com/event/christmas-walk-4/
LOCATION:Untitled\, Boca Grande\, FL\, 33921\, United States
GEO:27.6648274;-81.5157535
END:VEVENT
END:VCALENDAR