BEGIN:VCALENDAR
VERSION:2.0
PRODID:-//Boca Grande Area Chamber of Commerce - ECPv6.6.0.2//NONSGML v1.0//EN
CALSCALE:GREGORIAN
METHOD:PUBLISH
X-WR-CALNAME:Boca Grande Area Chamber of Commerce
X-ORIGINAL-URL:https://bocagrandechamber.com
X-WR-CALDESC:Events for Boca Grande Area Chamber of Commerce
REFRESH-INTERVAL;VALUE=DURATION:PT1H
X-Robots-Tag:noindex
X-PUBLISHED-TTL:PT1H
BEGIN:VTIMEZONE
TZID:America/New_York
BEGIN:DAYLIGHT
TZOFFSETFROM:-0500
TZOFFSETTO:-0400
TZNAME:EDT
DTSTART:20250309T070000
END:DAYLIGHT
BEGIN:STANDARD
TZOFFSETFROM:-0400
TZOFFSETTO:-0500
TZNAME:EST
DTSTART:20251102T060000
END:STANDARD
END:VTIMEZONE
BEGIN:VEVENT
DTSTART;TZID=America/New_York:20251115T100000
DTEND;TZID=America/New_York:20251115T140000
DTSTAMP:20260423T045124
CREATED:20250210T163722Z
LAST-MODIFIED:20250917T173426Z
UID:10000227-1763200800-1763215200@bocagrandechamber.com
SUMMARY:Big Mouth Chili Challenge
DESCRIPTION:Big Mouth Chili Challenge Entry Form\nGet ready for a fun-filled Chili Cook-Off! Whether you’re a master chef or just love to eat delicious chili\, this event is for you! Come on out to taste a variety of mouthwatering chili recipes and help us vote for your favorites. There will be live music\, 50/50 raffle and a chance to hang out with fellow chili lovers. Bring your friends and family for a day packed with laughter\, great food\, and amazing flavors. We can’t wait to see you there!
URL:https://bocagrandechamber.com/event/big-mouth-chili-challenge/
END:VEVENT
END:VCALENDAR