BEGIN:VCALENDAR
VERSION:2.0
PRODID:-//Boca Grande Area Chamber of Commerce - ECPv6.6.0.2//NONSGML v1.0//EN
CALSCALE:GREGORIAN
METHOD:PUBLISH
X-ORIGINAL-URL:https://bocagrandechamber.com
X-WR-CALDESC:Events for Boca Grande Area Chamber of Commerce
REFRESH-INTERVAL;VALUE=DURATION:PT1H
X-Robots-Tag:noindex
X-PUBLISHED-TTL:PT1H
BEGIN:VTIMEZONE
TZID:America/New_York
BEGIN:DAYLIGHT
TZOFFSETFROM:-0500
TZOFFSETTO:-0400
TZNAME:EDT
DTSTART:20250309T070000
END:DAYLIGHT
BEGIN:STANDARD
TZOFFSETFROM:-0400
TZOFFSETTO:-0500
TZNAME:EST
DTSTART:20251102T060000
END:STANDARD
END:VTIMEZONE
BEGIN:VEVENT
DTSTART;TZID=America/New_York:20251031T160000
DTEND;TZID=America/New_York:20251031T173000
DTSTAMP:20260423T003622
CREATED:20210921T171335Z
LAST-MODIFIED:20250826T190938Z
UID:10000076-1761926400-1761931800@bocagrandechamber.com
SUMMARY:Halloween Walk
DESCRIPTION:Come Join the fun!!! The Halloween Walk hosted by the Boca Grande Chamber of Commerce will be October 31th. The businesses will be passing out candy from 4-5:30 pm.
URL:https://bocagrandechamber.com/event/halloween-walk-2/
LOCATION:Downtown Boca Grande\, 301 Park Ave.\, Boca Grande\, FL\, 33921\, United States
CATEGORIES:Festival
GEO:26.7492629;-82.2622551
X-APPLE-STRUCTURED-LOCATION;VALUE=URI;X-ADDRESS=Downtown Boca Grande 301 Park Ave. Boca Grande FL 33921 United States;X-APPLE-RADIUS=500;X-TITLE=301 Park Ave.:geo:-82.2622551,26.7492629
END:VEVENT
END:VCALENDAR