BEGIN:VCALENDAR
VERSION:2.0
PRODID:-//Boca Grande Area Chamber of Commerce - ECPv6.6.0.2//NONSGML v1.0//EN
CALSCALE:GREGORIAN
METHOD:PUBLISH
X-WR-CALNAME:Boca Grande Area Chamber of Commerce
X-ORIGINAL-URL:https://bocagrandechamber.com
X-WR-CALDESC:Events for Boca Grande Area Chamber of Commerce
REFRESH-INTERVAL;VALUE=DURATION:PT1H
X-Robots-Tag:noindex
X-PUBLISHED-TTL:PT1H
BEGIN:VTIMEZONE
TZID:America/New_York
BEGIN:DAYLIGHT
TZOFFSETFROM:-0500
TZOFFSETTO:-0400
TZNAME:EDT
DTSTART:20250309T070000
END:DAYLIGHT
BEGIN:STANDARD
TZOFFSETFROM:-0400
TZOFFSETTO:-0500
TZNAME:EST
DTSTART:20251102T060000
END:STANDARD
END:VTIMEZONE
BEGIN:VEVENT
DTSTART;TZID=America/New_York:20251030T170000
DTEND;TZID=America/New_York:20251030T190000
DTSTAMP:20260423T003733
CREATED:20250108T182818Z
LAST-MODIFIED:20250826T190744Z
UID:10000221-1761843600-1761850800@bocagrandechamber.com
SUMMARY:Chamber Mixer
DESCRIPTION:This is a great opportunity to mix and mingle with long-time members\, new members\, and those interested in joining the Chamber. Enjoy an evening of fun networking! If you have any questions\, please contact the Chamber office at (941) 964-0568 or info@bocagrandechamber.com.
URL:https://bocagrandechamber.com/event/chamber-mixer-5/
LOCATION:Boca Grande Area Chamber of Commerce\, 471 Park Ave. Suite 3\, BOCA GRANDE\, FL\, 33921\, United States
GEO:26.7515057;-82.2622177
X-APPLE-STRUCTURED-LOCATION;VALUE=URI;X-ADDRESS=Boca Grande Area Chamber of Commerce 471 Park Ave. Suite 3 BOCA GRANDE FL 33921 United States;X-APPLE-RADIUS=500;X-TITLE=471 Park Ave. Suite 3:geo:-82.2622177,26.7515057
END:VEVENT
END:VCALENDAR