BEGIN:VCALENDAR
VERSION:2.0
PRODID:-//Boca Grande Area Chamber of Commerce - ECPv6.6.0.2//NONSGML v1.0//EN
CALSCALE:GREGORIAN
METHOD:PUBLISH
X-ORIGINAL-URL:https://bocagrandechamber.com
X-WR-CALDESC:Events for Boca Grande Area Chamber of Commerce
REFRESH-INTERVAL;VALUE=DURATION:PT1H
X-Robots-Tag:noindex
X-PUBLISHED-TTL:PT1H
BEGIN:VTIMEZONE
TZID:America/New_York
BEGIN:DAYLIGHT
TZOFFSETFROM:-0500
TZOFFSETTO:-0400
TZNAME:EDT
DTSTART:20240310T070000
END:DAYLIGHT
BEGIN:STANDARD
TZOFFSETFROM:-0400
TZOFFSETTO:-0500
TZNAME:EST
DTSTART:20241103T060000
END:STANDARD
END:VTIMEZONE
BEGIN:VEVENT
DTSTART;TZID=America/New_York:20240325T173000
DTEND;TZID=America/New_York:20240325T220000
DTSTAMP:20260422T052028
CREATED:20240320T164943Z
LAST-MODIFIED:20240320T175924Z
UID:10000214-1711387800-1711404000@bocagrandechamber.com
SUMMARY:BIPS 25th Annual Green Gala\, A Night in Hollywood
DESCRIPTION:Please join us at the Boca Bay Pass Club for our 25th annual Green Gala\, A Night in Hollywood. BIPS puts the FUN in fundraiser and our unique themes make our galas one of the most popular events on the island! The magical evening includes chef-prepared epicurean delights\, some of the best live music around\, dancing\, and fabulous live and silent auctions! RSVP and sponsorship opportunities are available for this distinctively memorable event to help BIPS preserve Port Boca Grande Lighthouse & Museum\, Gasparilla Island Lighthouse\, Amory Memorial Chapel and our four beautiful barrier island Florida State Parks! \nhttps://bips.ticket.qtego.us/tickets/list
URL:https://bocagrandechamber.com/event/bips-25th-annual-green-gala-a-night-in-hollywood/
LOCATION:Boca Bay Pass Club\, 898 Gulf Boulevard\, Boca Grande\, FL\, 33921\, United States
END:VEVENT
END:VCALENDAR