BEGIN:VCALENDAR
VERSION:2.0
PRODID:-//Boca Grande Area Chamber of Commerce - ECPv6.6.0.2//NONSGML v1.0//EN
CALSCALE:GREGORIAN
METHOD:PUBLISH
X-ORIGINAL-URL:https://bocagrandechamber.com
X-WR-CALDESC:Events for Boca Grande Area Chamber of Commerce
REFRESH-INTERVAL;VALUE=DURATION:PT1H
X-Robots-Tag:noindex
X-PUBLISHED-TTL:PT1H
BEGIN:VTIMEZONE
TZID:America/New_York
BEGIN:DAYLIGHT
TZOFFSETFROM:-0500
TZOFFSETTO:-0400
TZNAME:EDT
DTSTART:20230312T070000
END:DAYLIGHT
BEGIN:STANDARD
TZOFFSETFROM:-0400
TZOFFSETTO:-0500
TZNAME:EST
DTSTART:20231105T060000
END:STANDARD
END:VTIMEZONE
BEGIN:VEVENT
DTSTART;VALUE=DATE:20230916
DTEND;VALUE=DATE:20230917
DTSTAMP:20260421T213205
CREATED:20230718T164710Z
LAST-MODIFIED:20230718T164710Z
UID:10000200-1694822400-1694908799@bocagrandechamber.com
SUMMARY:Clubs For Kids 2023
DESCRIPTION:2023 Clubs for Kids Golf Tournament
URL:https://bocagrandechamber.com/event/clubs-for-kids-2023/
LOCATION:Untitled\, Boca Grande\, FL\, 33921\, United States
GEO:27.6648274;-81.5157535
END:VEVENT
END:VCALENDAR