BEGIN:VCALENDAR
VERSION:2.0
PRODID:-//Boca Grande Area Chamber of Commerce - ECPv6.6.0.2//NONSGML v1.0//EN
CALSCALE:GREGORIAN
METHOD:PUBLISH
X-ORIGINAL-URL:https://bocagrandechamber.com
X-WR-CALDESC:Events for Boca Grande Area Chamber of Commerce
REFRESH-INTERVAL;VALUE=DURATION:PT1H
X-Robots-Tag:noindex
X-PUBLISHED-TTL:PT1H
BEGIN:VTIMEZONE
TZID:America/New_York
BEGIN:DAYLIGHT
TZOFFSETFROM:-0500
TZOFFSETTO:-0400
TZNAME:EDT
DTSTART:20200308T070000
END:DAYLIGHT
BEGIN:STANDARD
TZOFFSETFROM:-0400
TZOFFSETTO:-0500
TZNAME:EST
DTSTART:20201101T060000
END:STANDARD
END:VTIMEZONE
BEGIN:VEVENT
DTSTART;TZID=America/New_York:20201009T091500
DTEND;TZID=America/New_York:20201009T101500
DTSTAMP:20260422T174051
CREATED:20200820T135312Z
LAST-MODIFIED:20200909T144805Z
UID:10000051-1602234900-1602238500@bocagrandechamber.com
SUMMARY:Virtual Mixed Yoga
DESCRIPTION:Go to the Banyan Tree Pilates and Yoga class schedule page to sign up
URL:https://bocagrandechamber.com/event/virtual-mixed-yoga/2020-10-09/
LOCATION:Untitled\, Boca Grande\, 33921\, United States
END:VEVENT
END:VCALENDAR